BEGIN:VCALENDAR
VERSION:2.0
PRODID:-//Saving tiny Hearts Society - ECPv6.15.20//NONSGML v1.0//EN
CALSCALE:GREGORIAN
METHOD:PUBLISH
X-WR-CALNAME:Saving tiny Hearts Society
X-ORIGINAL-URL:https://savingtinyhearts.org
X-WR-CALDESC:Events for Saving tiny Hearts Society
REFRESH-INTERVAL;VALUE=DURATION:PT1H
X-Robots-Tag:noindex
X-PUBLISHED-TTL:PT1H
BEGIN:VTIMEZONE
TZID:America/Chicago
BEGIN:DAYLIGHT
TZOFFSETFROM:-0600
TZOFFSETTO:-0500
TZNAME:CDT
DTSTART:20240310T080000
END:DAYLIGHT
BEGIN:STANDARD
TZOFFSETFROM:-0500
TZOFFSETTO:-0600
TZNAME:CST
DTSTART:20241103T070000
END:STANDARD
BEGIN:DAYLIGHT
TZOFFSETFROM:-0600
TZOFFSETTO:-0500
TZNAME:CDT
DTSTART:20250309T080000
END:DAYLIGHT
BEGIN:STANDARD
TZOFFSETFROM:-0500
TZOFFSETTO:-0600
TZNAME:CST
DTSTART:20251102T070000
END:STANDARD
BEGIN:DAYLIGHT
TZOFFSETFROM:-0600
TZOFFSETTO:-0500
TZNAME:CDT
DTSTART:20260308T080000
END:DAYLIGHT
BEGIN:STANDARD
TZOFFSETFROM:-0500
TZOFFSETTO:-0600
TZNAME:CST
DTSTART:20261101T070000
END:STANDARD
BEGIN:DAYLIGHT
TZOFFSETFROM:-0600
TZOFFSETTO:-0500
TZNAME:CDT
DTSTART:20270314T080000
END:DAYLIGHT
BEGIN:STANDARD
TZOFFSETFROM:-0500
TZOFFSETTO:-0600
TZNAME:CST
DTSTART:20271107T070000
END:STANDARD
END:VTIMEZONE
BEGIN:VEVENT
DTSTART;TZID=America/Chicago:20260222T123000
DTEND;TZID=America/Chicago:20260222T163000
DTSTAMP:20260423T130230
CREATED:20251210T172259Z
LAST-MODIFIED:20260124T004437Z
UID:10000015-1771763400-1771777800@savingtinyhearts.org
SUMMARY:CPR and AED Certification
DESCRIPTION:This holiday season\, and always\, we are thankful for you. Your steadfast support has helped us to raise millions of dollars and fund 83 research projects across the country and around the world. We are so close to funding 2 more critical research projects to reach our goal. Your generosity will be the spark\, help and hope for “what can be” so that no other family has to hear the words “we don’t know how to help your child” again.
URL:https://savingtinyhearts.org/event/cpr-aed-certification/
LOCATION:Home Office\, 1305 Busch Parkway\, Buffalo Grove\, IL\, 60089\, United States
ATTACH;FMTTYPE=image/jpeg:https://savingtinyhearts.org/wp-content/uploads/2026/01/cpr-correctd-2026_website-VERSION-2-copy.jpg
END:VEVENT
BEGIN:VEVENT
DTSTART;VALUE=DATE:20251231
DTEND;VALUE=DATE:20260101
DTSTAMP:20260423T130230
CREATED:20251211T024309Z
LAST-MODIFIED:20251211T213547Z
UID:10000016-1767139200-1767225599@savingtinyhearts.org
SUMMARY:Help fund 2 more CHD research projects.
DESCRIPTION:This holiday season\, and always\, we are thankful for you. Your steadfast support has helped us to raise millions of dollars and fund 83 research projects across the country and around the world. We are so close to funding 2 more critical research projects to reach our goal. Your generosity will be the spark\, help and hope for “what can be” so that no other family has to hear the words “we don’t know how to help your child” again.
URL:https://savingtinyhearts.org/event/help-fund-2-more-chd-research-projects/
LOCATION:Home Office\, 1305 Busch Parkway\, Buffalo Grove\, IL\, 60089\, United States
ATTACH;FMTTYPE=image/jpeg:https://savingtinyhearts.org/wp-content/uploads/2025/12/StHS_year_end_plea-scaled.jpg
END:VEVENT
END:VCALENDAR